BEGIN:VCALENDAR
VERSION:2.0
PRODID:-//wp-events-plugin.com//7.2.3.1//EN
TZID:Europe/Berlin
X-WR-TIMEZONE:Europe/Berlin
BEGIN:VEVENT
UID:249@agentbase.de
DTSTART;TZID=Europe/Berlin:20260527T100000
DTEND;TZID=Europe/Berlin:20260527T110000
DTSTAMP:20260421T071137Z
URL:https://www.agentbase.de/veranstaltungen/webinar-schadensmeldungen-mit
 -ki/
SUMMARY:Webinar | KI-gestützter Mängel-Assistent - Schadensmeldungen auto
 matisiert bearbeiten
DESCRIPTION:In diesem Webinar zeigen wir\, wie KI-Agenten die Eingangsverar
 beitung von Schadensmeldungen vollständig übernehmen – von der Erfassu
 ng über die Klassifizierung bis zur direkten Weiterleitung an Hausmeister
  oder externe Dienstleister. Anhand des KI-gestützten Mängel-Assistenten
  demonstrieren wir live\, wie Meldungen automatisch bewertet und weitergel
 eitet werden – inklusive definierter Entscheidungslogik und sauberer Dok
 umentation.
CATEGORIES:Webcast
LOCATION:Online\, Termin findet remote statt\, Online-Meeting\, Deutschland
X-APPLE-STRUCTURED-LOCATION;VALUE=URI;X-ADDRESS=Termin findet remote statt\
 , Online-Meeting\, Deutschland;X-APPLE-RADIUS=100;X-TITLE=Online:geo:0,0
END:VEVENT
BEGIN:VTIMEZONE
TZID:Europe/Berlin
X-LIC-LOCATION:Europe/Berlin
BEGIN:DAYLIGHT
DTSTART:20260329T030000
TZOFFSETFROM:+0100
TZOFFSETTO:+0200
TZNAME:CEST
END:DAYLIGHT
END:VTIMEZONE
END:VCALENDAR