BEGIN:VCALENDAR
VERSION:2.0
PRODID:-//wp-events-plugin.com//7.2.3.1//EN
TZID:Europe/Berlin
X-WR-TIMEZONE:Europe/Berlin
BEGIN:VEVENT
UID:174@agentbase.de
DTSTART;TZID=Europe/Berlin;VALUE=DATE:20240318
DTEND;TZID=Europe/Berlin;VALUE=DATE:20240323
DTSTAMP:20240201T100358Z
URL:https://www.agentbase.de/veranstaltungen/schulung-outsystems-reactive-
 developer-boot-camp-maerz/
SUMMARY:Schulung: OutSystems Reactive Developer Boot Camp / März
DESCRIPTION:Das OutSystems Reactive Developer Boot Camp ist ein 5-tägiger 
 Online-Kurs\, der die Teilnehmer in die Reactive Anwendungsentwicklung mit
  OutSystems einführt. Entwicklungsumgebung. \nDauer: 5 Tage / Sprache: De
 utsch / Ort: Online
CATEGORIES:Boot Camp,O11 Reactive Developer Boot Camp
END:VEVENT
BEGIN:VTIMEZONE
TZID:Europe/Berlin
X-LIC-LOCATION:Europe/Berlin
BEGIN:STANDARD
DTSTART:20231029T020000
TZOFFSETFROM:+0200
TZOFFSETTO:+0100
TZNAME:CET
END:STANDARD
END:VTIMEZONE
END:VCALENDAR