BEGIN:VCALENDAR
VERSION:2.0
PRODID:-//wp-events-plugin.com//7.2.3.1//EN
TZID:Europe/Berlin
X-WR-TIMEZONE:Europe/Berlin
BEGIN:VEVENT
UID:173@agentbase.de
DTSTART;TZID=Europe/Berlin;VALUE=DATE:20241202
DTEND;TZID=Europe/Berlin;VALUE=DATE:20241207
DTSTAMP:20240408T072922Z
URL:https://www.agentbase.de/veranstaltungen/schulung-outsystems-reactive-
 developer-boot-camp-dezember/
SUMMARY:Schulung: OutSystems Reactive Developer Boot Camp / Dezember
DESCRIPTION:Das OutSystems Reactive Developer Boot Camp ist ein 5-tägiger 
 Vor-Ort-Kurs\, der die Teilnehmer in die Reactive Anwendungsentwicklung mi
 t OutSystems einführt. Entwicklungsumgebung. \nDauer: 5 Tage / Sprache: D
 eutsch / Ort: Hybrid [Paderborn/Virtuell]
CATEGORIES:Boot Camp,O11 Reactive Developer Boot Camp
LOCATION:Hybrid (Paderborn/Online)\, Eggertstraße 7\, Paderborn\, 33100\, 
 Deutschland
X-APPLE-STRUCTURED-LOCATION;VALUE=URI;X-ADDRESS=Eggertstraße 7\, Paderborn
 \, 33100\, Deutschland;X-APPLE-RADIUS=100;X-TITLE=Hybrid (Paderborn/Online
 ):geo:0,0
END:VEVENT
BEGIN:VTIMEZONE
TZID:Europe/Berlin
X-LIC-LOCATION:Europe/Berlin
BEGIN:STANDARD
DTSTART:20241027T020000
TZOFFSETFROM:+0200
TZOFFSETTO:+0100
TZNAME:CET
END:STANDARD
END:VTIMEZONE
END:VCALENDAR