BEGIN:VCALENDAR
VERSION:2.0
PRODID:-//wp-events-plugin.com//7.2.3.1//EN
TZID:Europe/Berlin
X-WR-TIMEZONE:Europe/Berlin
BEGIN:VEVENT
UID:220@agentbase.de
DTSTART;TZID=Europe/Berlin;VALUE=DATE:20251105
DTEND;TZID=Europe/Berlin;VALUE=DATE:20251107
DTSTAMP:20251028T111029Z
URL:https://www.agentbase.de/veranstaltungen/schulung-outsystems-architect
 ure-specialist-boot-camp-november-25/
SUMMARY:Schulung: ODC Architecture Boot Camp / November 2025
DESCRIPTION:Ausblindung ODC Architecture Boot Camp inkl. Gutschein für die
  Zertifizierung. Dauer: 2 Tage / Sprache: Deutsch / Ort: Paderborn | Remot
 e
CATEGORIES:Architecture Specialist Boot Camp,Boot Camp
LOCATION:agentbase AG\, Eggertstraße 7\, Paderborn\, Deutschland
X-APPLE-STRUCTURED-LOCATION;VALUE=URI;X-ADDRESS=Eggertstraße 7\, Paderborn
 \, Deutschland;X-APPLE-RADIUS=100;X-TITLE=agentbase AG:geo:0,0
END:VEVENT
BEGIN:VTIMEZONE
TZID:Europe/Berlin
X-LIC-LOCATION:Europe/Berlin
BEGIN:STANDARD
DTSTART:20251026T020000
TZOFFSETFROM:+0200
TZOFFSETTO:+0100
TZNAME:CET
END:STANDARD
END:VTIMEZONE
END:VCALENDAR