BEGIN:VCALENDAR
VERSION:2.0
PRODID:-//wp-events-plugin.com//7.2.3.1//EN
TZID:Europe/Berlin
X-WR-TIMEZONE:Europe/Berlin
BEGIN:VEVENT
UID:219@agentbase.de
DTSTART;TZID=Europe/Berlin;VALUE=DATE:20250804
DTEND;TZID=Europe/Berlin;VALUE=DATE:20250807
DTSTAMP:20250623T081809Z
URL:https://www.agentbase.de/veranstaltungen/schulung-outsystems-architect
 ure-specialist-boot-camp-august-25/
SUMMARY:Schulung: OutSystems Architecture Specialist Boot Camp / August 25
DESCRIPTION:Die Ausbildung zum OutSystems Architecture Specialist ist ein 3
 -tägiger vor-Ort Kurs\, der sich auf das Architekturdesign für skalierba
 re\, leistungsstarke Anwendungen konzentriert.\nDauer: 3 Tage / Sprache: D
 eutsch
CATEGORIES:Architecture Specialist Boot Camp,Boot Camp
LOCATION:agentbase AG\, Eggertstraße 7\, Paderborn\, Deutschland
X-APPLE-STRUCTURED-LOCATION;VALUE=URI;X-ADDRESS=Eggertstraße 7\, Paderborn
 \, Deutschland;X-APPLE-RADIUS=100;X-TITLE=agentbase AG:geo:0,0
END:VEVENT
BEGIN:VTIMEZONE
TZID:Europe/Berlin
X-LIC-LOCATION:Europe/Berlin
BEGIN:DAYLIGHT
DTSTART:20250330T030000
TZOFFSETFROM:+0100
TZOFFSETTO:+0200
TZNAME:CEST
END:DAYLIGHT
END:VTIMEZONE
END:VCALENDAR