BEGIN:VCALENDAR
VERSION:2.0
PRODID:-//wp-events-plugin.com//7.2.3.1//EN
TZID:Europe/Berlin
X-WR-TIMEZONE:Europe/Berlin
BEGIN:VEVENT
UID:8@agentbase.de
DTSTART;TZID=Europe/Berlin:20190509T100000
DTEND;TZID=Europe/Berlin:20190509T103000
DTSTAMP:20190626T073706Z
URL:https://www.agentbase.de/veranstaltungen/rpa-webcast-reihe-teil-2/
SUMMARY:RPA-Webcast Teil 2: Erweiterte Automatisierungsmöglichkeiten mit R
 PA
DESCRIPTION:In diesem Webcast werden wir in nur 30 Minuten die erweiterten 
 Möglichkeiten von RPA vorstellenin. 
END:VEVENT
BEGIN:VTIMEZONE
TZID:Europe/Berlin
X-LIC-LOCATION:Europe/Berlin
BEGIN:DAYLIGHT
DTSTART:20190331T030000
TZOFFSETFROM:+0100
TZOFFSETTO:+0200
TZNAME:CEST
END:DAYLIGHT
END:VTIMEZONE
END:VCALENDAR