BEGIN:VCALENDAR
VERSION:2.0
PRODID:-//wp-events-plugin.com//7.2.3.1//EN
TZID:Europe/Berlin
X-WR-TIMEZONE:Europe/Berlin
BEGIN:VEVENT
UID:198@agentbase.de
DTSTART;TZID=Europe/Berlin:20260122T090000
DTEND;TZID=Europe/Berlin:20260122T123000
DTSTAMP:20251112T080215Z
URL:https://www.agentbase.de/veranstaltungen/outsystems-jump-start-worksho
 p-januar-2026/
SUMMARY:OutSystems Jump Start Workshop - Januar 2026
DESCRIPTION:Entdecken Sie in unserem Jump Start Workshop\, wie Sie mit OutS
 ystems eine schnelle Entwicklung vorantreiben können. In diesem kostenlos
 en Online-Training erhalten Sie einen Überblick über die OutSystems Low-
 Code-Plattform und lernen dann\, wie Sie damit Anwendungen für Unternehme
 n planen\, entwickeln\, ändern\, bereitstellen und verwalten können.
CATEGORIES:Jump Start Workshop
END:VEVENT
BEGIN:VTIMEZONE
TZID:Europe/Berlin
X-LIC-LOCATION:Europe/Berlin
BEGIN:STANDARD
DTSTART:20251026T020000
TZOFFSETFROM:+0200
TZOFFSETTO:+0100
TZNAME:CET
END:STANDARD
END:VTIMEZONE
END:VCALENDAR