BEGIN:VCALENDAR
VERSION:2.0
PRODID:-//wp-events-plugin.com//7.2.3.1//EN
TZID:Europe/Berlin
X-WR-TIMEZONE:Europe/Berlin
BEGIN:VEVENT
UID:101@agentbase.de
DTSTART;TZID=Europe/Berlin:20220929T090000
DTEND;TZID=Europe/Berlin:20220929T123000
DTSTAMP:20220905T094542Z
URL:https://www.agentbase.de/veranstaltungen/outsystems-jump-start-worksho
 p-09-22/
SUMMARY:OutSystems Jump Start Workshop / Online-Training
DESCRIPTION:Entdecken Sie in unserem gekürzten Online-Workshop\, wie Sie m
 it OutSystems eine schnelle Entwicklung vorantreiben können. In diesem ko
 stenlosen Online-Training erhalten Sie einen Überblick über die OutSyste
 ms Low-Code-Plattform und lernen dann\, wie Sie damit Anwendungen für Unt
 ernehmen planen\, entwickeln\, ändern\, bereitstellen und verwalten könn
 en.
END:VEVENT
BEGIN:VTIMEZONE
TZID:Europe/Berlin
X-LIC-LOCATION:Europe/Berlin
BEGIN:DAYLIGHT
DTSTART:20220327T030000
TZOFFSETFROM:+0100
TZOFFSETTO:+0200
TZNAME:CEST
END:DAYLIGHT
END:VTIMEZONE
END:VCALENDAR