BEGIN:VCALENDAR
VERSION:2.0
PRODID:-//wp-events-plugin.com//7.2.3.1//EN
TZID:Europe/Berlin
X-WR-TIMEZONE:Europe/Berlin
BEGIN:VEVENT
UID:3@agentbase.de
DTSTART;TZID=Europe/Berlin:20190711T090000
DTEND;TZID=Europe/Berlin:20190711T091700
DTSTAMP:20190711T101111Z
URL:https://www.agentbase.de/veranstaltungen/outsystems-jump-start-trainin
 g-paderborn/
SUMMARY:OutSystems Jump Start Training – Paderborn
DESCRIPTION:Entdecken Sie\, wie Sie mit OutSystems eine schnelle Entwicklun
 g vorantreiben können. In dieser kostenlosen\, eintägigen Schulung erhal
 ten Sie einen Überblick über die OutSystems Low-Code-Plattform und lerne
 n dann\, wie Sie damit Anwendungen für Unternehmen planen\, entwickeln\, 
 ändern\, bereitstellen und verwalten können.
END:VEVENT
BEGIN:VTIMEZONE
TZID:Europe/Berlin
X-LIC-LOCATION:Europe/Berlin
BEGIN:DAYLIGHT
DTSTART:20190331T030000
TZOFFSETFROM:+0100
TZOFFSETTO:+0200
TZNAME:CEST
END:DAYLIGHT
END:VTIMEZONE
END:VCALENDAR