BEGIN:VCALENDAR
VERSION:2.0
PRODID:-//wp-events-plugin.com//7.2.3.1//EN
TZID:Europe/Berlin
X-WR-TIMEZONE:Europe/Berlin
BEGIN:VEVENT
UID:112@agentbase.de
DTSTART;TZID=Europe/Berlin:20221215T103000
DTEND;TZID=Europe/Berlin:20221215T120000
DTSTAMP:20221122T104532Z
URL:https://www.agentbase.de/veranstaltungen/nextstep-comes-to-you-2022/
SUMMARY:NextStep Comes To You 2022
DESCRIPTION:Auf der NextStep-Konferenz 2022 bietet OutSystems Einsichten in
  neue Technologien und Innovationen der OutSystems-Plattform\, die Ihr Unt
 ernehmen weiter voranbringen. Wir bringen die Highlights und Neuerungen de
 r NextStep 2022 für Sie in 90 Minuten auf den Punkt! 
CATEGORIES:Webcast
END:VEVENT
BEGIN:VTIMEZONE
TZID:Europe/Berlin
X-LIC-LOCATION:Europe/Berlin
BEGIN:STANDARD
DTSTART:20221030T020000
TZOFFSETFROM:+0200
TZOFFSETTO:+0100
TZNAME:CET
END:STANDARD
END:VTIMEZONE
END:VCALENDAR