BEGIN:VCALENDAR
VERSION:2.0
PRODID:-//wp-events-plugin.com//7.2.3.1//EN
TZID:Europe/Berlin
X-WR-TIMEZONE:Europe/Berlin
BEGIN:VEVENT
UID:38@agentbase.de
DTSTART;TZID=Europe/Berlin;VALUE=DATE:20191029
DTEND;TZID=Europe/Berlin;VALUE=DATE:20191031
DTSTAMP:20191011T045347Z
URL:https://www.agentbase.de/veranstaltungen/nextstep-2019-amsterdam/
SUMMARY:NextStep in Amsterdam
DESCRIPTION:Die NextStep am 29. und 30. Oktober ist eine Top-Veranstaltung 
 rund um die Themen Low-Code\, innovative Technologien\, Tech-Trends und di
 gitale Transformation. Die agentbase AG wird als einziger Deutscher Partne
 r vor Ort sein.
END:VEVENT
BEGIN:VTIMEZONE
TZID:Europe/Berlin
X-LIC-LOCATION:Europe/Berlin
BEGIN:STANDARD
DTSTART:20191027T020000
TZOFFSETFROM:+0200
TZOFFSETTO:+0100
TZNAME:CET
END:STANDARD
END:VTIMEZONE
END:VCALENDAR