BEGIN:VCALENDAR
VERSION:2.0
PRODID:-//wp-events-plugin.com//7.2.3.1//EN
TZID:Europe/Berlin
X-WR-TIMEZONE:Europe/Berlin
BEGIN:VEVENT
UID:23@agentbase.de
DTSTART;TZID=Europe/Berlin;VALUE=DATE:20180319
DTEND;TZID=Europe/Berlin;VALUE=DATE:20180323
DTSTAMP:20190626T072914Z
URL:https://www.agentbase.de/veranstaltungen/ibm-think-2018/
SUMMARY:IBM Think 2018
DESCRIPTION:Auf der wohl bedeutendsten IBM Konferenz des Jahres bietet die 
 IBM diverse technische und vertriebliche Sessions vom Thema Cloud\, über 
 Collaboration bis hin zu Watson. 
END:VEVENT
BEGIN:VTIMEZONE
TZID:Europe/Berlin
X-LIC-LOCATION:Europe/Berlin
BEGIN:STANDARD
DTSTART:20171029T020000
TZOFFSETFROM:+0200
TZOFFSETTO:+0100
TZNAME:CET
END:STANDARD
END:VTIMEZONE
END:VCALENDAR