BEGIN:VCALENDAR
VERSION:2.0
PRODID:-//wp-events-plugin.com//7.2.3.1//EN
TZID:Europe/Berlin
X-WR-TIMEZONE:Europe/Berlin
BEGIN:VEVENT
UID:106@agentbase.de
DTSTART;TZID=Europe/Berlin;VALUE=DATE:20221205
DTEND;TZID=Europe/Berlin;VALUE=DATE:20221208
DTSTAMP:20221128T090057Z
URL:https://www.agentbase.de/veranstaltungen/bc-outsystems-mobile-develope
 r-12/
SUMMARY:Boot Camp: OutSystems Mobile Developer (Remote / Online)
DESCRIPTION:Das OutSystems Mobile Developers Boot Camp ist ein 3-tägiger O
 nline-Kurs\, der OutSystems-Entwickler in Themen einführt\, die für die 
 Entwicklung nativer mobiler Anwendungen mit OutSystems wichtig sind. \nDau
 er: 3 Tage / Sprache: Deutsch / Ort: Remote/Online
CATEGORIES:Boot Camp,Mobile Developer Boot Camp
END:VEVENT
BEGIN:VTIMEZONE
TZID:Europe/Berlin
X-LIC-LOCATION:Europe/Berlin
BEGIN:STANDARD
DTSTART:20221030T020000
TZOFFSETFROM:+0200
TZOFFSETTO:+0100
TZNAME:CET
END:STANDARD
END:VTIMEZONE
END:VCALENDAR